BEGIN:VCALENDAR
VERSION:2.0
PRODID:-//Vänsterpartiet Finspång - ECPv6.15.17.1//NONSGML v1.0//EN
CALSCALE:GREGORIAN
METHOD:PUBLISH
X-ORIGINAL-URL:https://finspang.vansterpartiet.se
X-WR-CALDESC:Händelser för Vänsterpartiet Finspång
REFRESH-INTERVAL;VALUE=DURATION:PT1H
X-Robots-Tag:noindex
X-PUBLISHED-TTL:PT1H
BEGIN:VTIMEZONE
TZID:Europe/Stockholm
BEGIN:DAYLIGHT
TZOFFSETFROM:+0100
TZOFFSETTO:+0200
TZNAME:CEST
DTSTART:20140330T010000
END:DAYLIGHT
BEGIN:STANDARD
TZOFFSETFROM:+0200
TZOFFSETTO:+0100
TZNAME:CET
DTSTART:20141026T010000
END:STANDARD
BEGIN:DAYLIGHT
TZOFFSETFROM:+0100
TZOFFSETTO:+0200
TZNAME:CEST
DTSTART:20150329T010000
END:DAYLIGHT
BEGIN:STANDARD
TZOFFSETFROM:+0200
TZOFFSETTO:+0100
TZNAME:CET
DTSTART:20151025T010000
END:STANDARD
BEGIN:DAYLIGHT
TZOFFSETFROM:+0100
TZOFFSETTO:+0200
TZNAME:CEST
DTSTART:20160327T010000
END:DAYLIGHT
BEGIN:STANDARD
TZOFFSETFROM:+0200
TZOFFSETTO:+0100
TZNAME:CET
DTSTART:20161030T010000
END:STANDARD
BEGIN:DAYLIGHT
TZOFFSETFROM:+0100
TZOFFSETTO:+0200
TZNAME:CEST
DTSTART:20170326T010000
END:DAYLIGHT
BEGIN:STANDARD
TZOFFSETFROM:+0200
TZOFFSETTO:+0100
TZNAME:CET
DTSTART:20171029T010000
END:STANDARD
END:VTIMEZONE
BEGIN:VEVENT
DTSTART;TZID=Europe/Stockholm:20160320T180000
DTEND;TZID=Europe/Stockholm:20160320T190000
DTSTAMP:20260422T032013
CREATED:20160302T204755Z
LAST-MODIFIED:20160302T204821Z
UID:3253-1458496800-1458500400@finspang.vansterpartiet.se
SUMMARY:Styrelsemöte
DESCRIPTION:
URL:https://finspang.vansterpartiet.se/event/styrelsemote-15/
END:VEVENT
BEGIN:VEVENT
DTSTART;TZID=Europe/Stockholm:20160320T160000
DTEND;TZID=Europe/Stockholm:20160320T180000
DTSTAMP:20260422T032013
CREATED:20160229T121650Z
LAST-MODIFIED:20160229T140137Z
UID:3231-1458489600-1458496800@finspang.vansterpartiet.se
SUMMARY:Årsmöte
DESCRIPTION:Alla medlemmar hälsas välkomna till avdelningens årsmöte.\nFörutom årsmötesförhandlingar kommer Malin Östh\, ledamot i regionfullmäktige\, och berättar kort om regionpolitik i Östergötland samt om planerna för Finspångs nya vårdcentral.\nVi bjuder på fika med semla. Boklotteri. \nEfter årsmötet är det genomgång av vissa ärenden till fullmäktige tre dagar senare\, 23 mars.
URL:https://finspang.vansterpartiet.se/event/arsmote/
LOCATION:Partilokalen\, Bergslagsvägen 40
END:VEVENT
BEGIN:VEVENT
DTSTART;TZID=Europe/Stockholm:20160224T160000
DTEND;TZID=Europe/Stockholm:20160224T190000
DTSTAMP:20260422T032013
CREATED:20160215T145813Z
LAST-MODIFIED:20160215T145813Z
UID:3224-1456329600-1456340400@finspang.vansterpartiet.se
SUMMARY:K-fullm
DESCRIPTION:Ärendelista\, se kommunens hemsida www.finspang.se \n 
URL:https://finspang.vansterpartiet.se/event/k-fullm-3/
LOCATION:Sessionssalen
END:VEVENT
BEGIN:VEVENT
DTSTART;TZID=Europe/Stockholm:20160221T183000
DTEND;TZID=Europe/Stockholm:20160221T183000
DTSTAMP:20260422T032013
CREATED:20160215T145545Z
LAST-MODIFIED:20160215T145545Z
UID:3222-1456079400-1456079400@finspang.vansterpartiet.se
SUMMARY:Medlemsmöte
DESCRIPTION:Genomgång av fullmäktigeärenden. \nDiskussion om jämlikhet\, se artikel.\nStora inkomstklyftor ger alla sämre liv (1)
URL:https://finspang.vansterpartiet.se/event/medlemsmote-15/
LOCATION:Partilokalen
END:VEVENT
BEGIN:VEVENT
DTSTART;TZID=Europe/Stockholm:20160221T170000
DTEND;TZID=Europe/Stockholm:20160221T170000
DTSTAMP:20260422T032013
CREATED:20160215T144817Z
LAST-MODIFIED:20160215T144817Z
UID:3221-1456074000-1456074000@finspang.vansterpartiet.se
SUMMARY:Styrelsemöte
DESCRIPTION:
URL:https://finspang.vansterpartiet.se/event/styrelsemote-12/
LOCATION:Partilokalen
END:VEVENT
BEGIN:VEVENT
DTSTART;TZID=Europe/Stockholm:20160127T160000
DTEND;TZID=Europe/Stockholm:20160127T190000
DTSTAMP:20260422T032013
CREATED:20151215T012039Z
LAST-MODIFIED:20151215T012256Z
UID:3214-1453910400-1453921200@finspang.vansterpartiet.se
SUMMARY:K-fullmäktige
DESCRIPTION:
URL:https://finspang.vansterpartiet.se/event/k-fullm-2/
LOCATION:Sessionssalen
END:VEVENT
BEGIN:VEVENT
DTSTART;TZID=Europe/Stockholm:20160124T183000
DTEND;TZID=Europe/Stockholm:20160124T200000
DTSTAMP:20260422T032013
CREATED:20151215T011937Z
LAST-MODIFIED:20151215T012115Z
UID:3213-1453660200-1453665600@finspang.vansterpartiet.se
SUMMARY:Medlemsmöte
DESCRIPTION:
URL:https://finspang.vansterpartiet.se/event/medlemsmote-14/
LOCATION:Partilokalen
END:VEVENT
BEGIN:VEVENT
DTSTART;TZID=Europe/Stockholm:20160124T170000
DTEND;TZID=Europe/Stockholm:20160124T181500
DTSTAMP:20260422T032013
CREATED:20151215T011839Z
LAST-MODIFIED:20151215T012141Z
UID:3212-1453654800-1453659300@finspang.vansterpartiet.se
SUMMARY:Styrelsen
DESCRIPTION:
URL:https://finspang.vansterpartiet.se/event/styrelsen-5/
LOCATION:Partilokalen
END:VEVENT
BEGIN:VEVENT
DTSTART;TZID=Europe/Stockholm:20160112T170000
DTEND;TZID=Europe/Stockholm:20160112T170000
DTSTAMP:20260422T032013
CREATED:20151116T130300Z
LAST-MODIFIED:20151116T140917Z
UID:3200-1452618000-1452618000@finspang.vansterpartiet.se
SUMMARY:Våra förtroendeuppdrag
DESCRIPTION:
URL:https://finspang.vansterpartiet.se/event/vara-fortroendeuppdrag/
LOCATION:Partilokalen
END:VEVENT
BEGIN:VEVENT
DTSTART;TZID=Europe/Stockholm:20160108T120000
DTEND;TZID=Europe/Stockholm:20160108T170000
DTSTAMP:20260422T032013
CREATED:20151116T122847Z
LAST-MODIFIED:20151116T125602Z
UID:3194-1452254400-1452272400@finspang.vansterpartiet.se
SUMMARY:Strategidag
DESCRIPTION:
URL:https://finspang.vansterpartiet.se/event/strategidag/
END:VEVENT
BEGIN:VEVENT
DTSTART;TZID=Europe/Stockholm:20151216T160000
DTEND;TZID=Europe/Stockholm:20151216T180000
DTSTAMP:20260422T032013
CREATED:20151116T125341Z
LAST-MODIFIED:20151116T125705Z
UID:3197-1450281600-1450288800@finspang.vansterpartiet.se
SUMMARY:K-fullmäktige
DESCRIPTION:Se Finspångs kommuns hemsida för Ärendelista.
URL:https://finspang.vansterpartiet.se/event/medlemsmote-12/
LOCATION:Sessionssalen
END:VEVENT
BEGIN:VEVENT
DTSTART;TZID=Europe/Stockholm:20151213T183000
DTEND;TZID=Europe/Stockholm:20151213T193000
DTSTAMP:20260422T032013
CREATED:20151116T125914Z
LAST-MODIFIED:20151116T125930Z
UID:3199-1450031400-1450035000@finspang.vansterpartiet.se
SUMMARY:Medlemsmöte
DESCRIPTION:
URL:https://finspang.vansterpartiet.se/event/medlemsmote-13/
LOCATION:Partilokalen
END:VEVENT
BEGIN:VEVENT
DTSTART;TZID=Europe/Stockholm:20151213T170000
DTEND;TZID=Europe/Stockholm:20151213T181500
DTSTAMP:20260422T032013
CREATED:20151116T125241Z
LAST-MODIFIED:20151116T125241Z
UID:3196-1450026000-1450030500@finspang.vansterpartiet.se
SUMMARY:Styrelsemöte
DESCRIPTION:
URL:https://finspang.vansterpartiet.se/event/styrelsemote-11/
LOCATION:Partilokalen
END:VEVENT
BEGIN:VEVENT
DTSTART;TZID=Europe/Stockholm:20151125T160000
DTEND;TZID=Europe/Stockholm:20151125T190000
DTSTAMP:20260422T032013
CREATED:20151116T122248Z
LAST-MODIFIED:20151116T125739Z
UID:3191-1448467200-1448478000@finspang.vansterpartiet.se
SUMMARY:K-fullmäktige
DESCRIPTION:Se Finspångs kommuns hemsida för Ärendelista.
URL:https://finspang.vansterpartiet.se/event/medlemsmote-10/
LOCATION:Sessionssalen
END:VEVENT
BEGIN:VEVENT
DTSTART;TZID=Europe/Stockholm:20151122T183000
DTEND;TZID=Europe/Stockholm:20151122T193000
DTSTAMP:20260422T032013
CREATED:20151116T122751Z
LAST-MODIFIED:20151116T122751Z
UID:3193-1448217000-1448220600@finspang.vansterpartiet.se
SUMMARY:Medlemsmöte
DESCRIPTION:
URL:https://finspang.vansterpartiet.se/event/medlemsmote-11/
END:VEVENT
BEGIN:VEVENT
DTSTART;TZID=Europe/Stockholm:20151122T170000
DTEND;TZID=Europe/Stockholm:20151122T181500
DTSTAMP:20260422T032013
CREATED:20151116T122129Z
LAST-MODIFIED:20151116T122129Z
UID:3190-1448211600-1448216100@finspang.vansterpartiet.se
SUMMARY:Styrelsemöte
DESCRIPTION:Samling redan kl 16 för städning av lokalen.
URL:https://finspang.vansterpartiet.se/event/styrelsemote-10/
LOCATION:Partilokalen
END:VEVENT
BEGIN:VEVENT
DTSTART;TZID=Europe/Stockholm:20151101T173000
DTEND;TZID=Europe/Stockholm:20151101T193000
DTSTAMP:20260422T032013
CREATED:20150831T211840Z
LAST-MODIFIED:20150901T204116Z
UID:3184-1446399000-1446406200@finspang.vansterpartiet.se
SUMMARY:Styrelse och medlemsmöte
DESCRIPTION:
URL:https://finspang.vansterpartiet.se/event/styrelse-och-medlemsmote/
END:VEVENT
BEGIN:VEVENT
DTSTART;TZID=Europe/Stockholm:20151011T160000
DTEND;TZID=Europe/Stockholm:20151011T180000
DTSTAMP:20260422T032013
CREATED:20150831T210941Z
LAST-MODIFIED:20150901T203901Z
UID:3182-1444579200-1444586400@finspang.vansterpartiet.se
SUMMARY:Bokcirkelträff
DESCRIPTION:kl 16-18 Intressanta lärdomar från Vänsterdagarna i Malmö. Rapport från Lärandeberedningen som arbetar med förskola\, fritidshem och grundskola. Kommande Kf-ärenden utifrån deltagarnas intressen. \n  \nKl 16-18. Första träffen i vår bokcirkel om äldre och nya arbetarklassförfattare. \n  \n  \n  \n  \n  \n 
URL:https://finspang.vansterpartiet.se/event/styrelsemote-8/
LOCATION:Sessionssalen
END:VEVENT
BEGIN:VEVENT
DTSTART;TZID=Europe/Stockholm:20150927T183000
DTEND;TZID=Europe/Stockholm:20150927T200000
DTSTAMP:20260422T032013
CREATED:20150925T213908Z
LAST-MODIFIED:20150925T215545Z
UID:3188-1443378600-1443384000@finspang.vansterpartiet.se
SUMMARY:Medlemsmöte
DESCRIPTION:Kort info om Rejmyrefrågan dvs kommunens köp av glasbruksbyggnaden (V avstod från att rösta) \nRapport från Vänsterdagarna i Malmö: ”6-timmars arbetsdag” (Lilibet) och ”Vänsterpartiet och facken” (Johan). \nKort info om Lärandeberedningens arbete \nIntressanta ärenden på Kf d. 30 sept. \n 
URL:https://finspang.vansterpartiet.se/event/medlemsmote-9/
LOCATION:Partilokalen
END:VEVENT
BEGIN:VEVENT
DTSTART;TZID=Europe/Stockholm:20150927T170000
DTEND;TZID=Europe/Stockholm:20150927T183000
DTSTAMP:20260422T032013
CREATED:20150925T213520Z
LAST-MODIFIED:20150925T213546Z
UID:3187-1443373200-1443378600@finspang.vansterpartiet.se
SUMMARY:Styrelsemöte
DESCRIPTION:Styrelsemötet tar bl a upp inköp av inventarier\, utbildning och rapporter från Vänsterdagarna i Malmö.
URL:https://finspang.vansterpartiet.se/event/styrelsemote-9/
LOCATION:Partilokalen
END:VEVENT
BEGIN:VEVENT
DTSTART;TZID=Europe/Stockholm:20150922T000500
DTEND;TZID=Europe/Stockholm:20150922T000500
DTSTAMP:20260422T032013
CREATED:20150831T210817Z
LAST-MODIFIED:20150901T163831Z
UID:3181-1442880300-1442880300@finspang.vansterpartiet.se
SUMMARY:Budgetarbetet och framtiden
DESCRIPTION:Livesändning i lokalen endast för medlemmar. Jonas Sjöstedt och Ulla Andersson pratar om budgetarbetet och framtiden. Tid ej satt!
URL:https://finspang.vansterpartiet.se/event/budgetarbetet-och-framtiden/
LOCATION:Partilokalen
END:VEVENT
BEGIN:VEVENT
DTSTART;TZID=Europe/Stockholm:20150912T090000
DTEND;TZID=Europe/Stockholm:20150913T180000
DTSTAMP:20260422T032013
CREATED:20150831T210522Z
LAST-MODIFIED:20150901T205131Z
UID:3180-1442048400-1442167200@finspang.vansterpartiet.se
SUMMARY:Vänsterdagarna i Malmö
DESCRIPTION:4-5 kamrater åker för att låta sig inspireras och få impulser för att ex. arbeta med frågan om försök med 6-timmars arbetsdag i Finspång.
URL:https://finspang.vansterpartiet.se/event/vansterdagarna-i-malmo/
END:VEVENT
BEGIN:VEVENT
DTSTART;TZID=Europe/Stockholm:20150823T183000
DTEND;TZID=Europe/Stockholm:20150823T183000
DTSTAMP:20260422T032013
CREATED:20150812T102505Z
LAST-MODIFIED:20150812T102616Z
UID:3178-1440354600-1440354600@finspang.vansterpartiet.se
SUMMARY:Medlemsmöte
DESCRIPTION:
URL:https://finspang.vansterpartiet.se/event/medlemsmote-8/
LOCATION:Partilokalen
END:VEVENT
BEGIN:VEVENT
DTSTART;TZID=Europe/Stockholm:20150823T170000
DTEND;TZID=Europe/Stockholm:20150823T183000
DTSTAMP:20260422T032013
CREATED:20150812T102310Z
LAST-MODIFIED:20150812T102403Z
UID:3177-1440349200-1440354600@finspang.vansterpartiet.se
SUMMARY:Styrelsen
DESCRIPTION:
URL:https://finspang.vansterpartiet.se/event/styrelsen-4/
LOCATION:Partilokalen
END:VEVENT
BEGIN:VEVENT
DTSTART;TZID=Europe/Stockholm:20150612T160000
DTEND;TZID=Europe/Stockholm:20150612T160000
DTSTAMP:20260422T032013
CREATED:20150504T104820Z
LAST-MODIFIED:20150504T104820Z
UID:3164-1434124800-1434124800@finspang.vansterpartiet.se
SUMMARY:Sommarträff
DESCRIPTION:Medlemsmötet i juni görs till en sommarträff med mat och lek och sång och …. ja\, vem vet vad som kan hända.\nTiden är heller inte bestämd än så se den som preliminär.\nPlatsen däremot är hemma hos Conny och Anna i deras trädgård.
URL:https://finspang.vansterpartiet.se/event/sommartraff/
END:VEVENT
BEGIN:VEVENT
DTSTART;TZID=Europe/Stockholm:20150607T180000
DTEND;TZID=Europe/Stockholm:20150607T200000
DTSTAMP:20260422T032013
CREATED:20150112T230909Z
LAST-MODIFIED:20150112T230909Z
UID:3054-1433700000-1433707200@finspang.vansterpartiet.se
SUMMARY:Feministisk studiecirkel 5
DESCRIPTION:
URL:https://finspang.vansterpartiet.se/event/feministisk-studiecirkel-5/
END:VEVENT
BEGIN:VEVENT
DTSTART;TZID=Europe/Stockholm:20150529T090000
DTEND;TZID=Europe/Stockholm:20150529T170000
DTSTAMP:20260422T032013
CREATED:20150504T105517Z
LAST-MODIFIED:20150504T105517Z
UID:3167-1432890000-1432918800@finspang.vansterpartiet.se
SUMMARY:Finsponga marken
DESCRIPTION:Vänsterpartiet finns som vanligt med på Finsponga marken. Vi står på vår vanliga plats vid blomsteraffären\, nedanför Lidlparkeringen. \nLeif Sundström samordnar vår medverkan så den som vill hjälpa till ringer honom på\ntelefon 0762 64 67 19.
URL:https://finspang.vansterpartiet.se/event/finsponga-marken/
END:VEVENT
BEGIN:VEVENT
DTSTART;TZID=Europe/Stockholm:20150527T160000
DTEND;TZID=Europe/Stockholm:20150527T190000
DTSTAMP:20260422T032013
CREATED:20150504T105729Z
LAST-MODIFIED:20150504T110330Z
UID:3168-1432742400-1432753200@finspang.vansterpartiet.se
SUMMARY:Kommunfullm
DESCRIPTION:
URL:https://finspang.vansterpartiet.se/event/kommunfullm/
LOCATION:Sessionssalen
END:VEVENT
BEGIN:VEVENT
DTSTART;TZID=Europe/Stockholm:20150524T183000
DTEND;TZID=Europe/Stockholm:20150524T193000
DTSTAMP:20260422T032013
CREATED:20150504T105203Z
LAST-MODIFIED:20150504T105203Z
UID:3166-1432492200-1432495800@finspang.vansterpartiet.se
SUMMARY:Medlemsmöte
DESCRIPTION:
URL:https://finspang.vansterpartiet.se/event/medlemsmote-7/
LOCATION:Partilokalen
END:VEVENT
BEGIN:VEVENT
DTSTART;TZID=Europe/Stockholm:20150524T173000
DTEND;TZID=Europe/Stockholm:20150524T183000
DTSTAMP:20260422T032013
CREATED:20150504T105045Z
LAST-MODIFIED:20150504T105045Z
UID:3165-1432488600-1432492200@finspang.vansterpartiet.se
SUMMARY:Styrelsemöte
DESCRIPTION:
URL:https://finspang.vansterpartiet.se/event/styrelsemote-7/
LOCATION:Partilokalen
END:VEVENT
END:VCALENDAR