BEGIN:VCALENDAR
VERSION:2.0
PRODID:-//Vänsterpartiet Finspång - ECPv6.15.17.1//NONSGML v1.0//EN
CALSCALE:GREGORIAN
METHOD:PUBLISH
X-ORIGINAL-URL:https://finspang.vansterpartiet.se
X-WR-CALDESC:Händelser för Vänsterpartiet Finspång
REFRESH-INTERVAL;VALUE=DURATION:PT1H
X-Robots-Tag:noindex
X-PUBLISHED-TTL:PT1H
BEGIN:VTIMEZONE
TZID:Europe/Stockholm
BEGIN:DAYLIGHT
TZOFFSETFROM:+0100
TZOFFSETTO:+0200
TZNAME:CEST
DTSTART:20130331T010000
END:DAYLIGHT
BEGIN:STANDARD
TZOFFSETFROM:+0200
TZOFFSETTO:+0100
TZNAME:CET
DTSTART:20131027T010000
END:STANDARD
BEGIN:DAYLIGHT
TZOFFSETFROM:+0100
TZOFFSETTO:+0200
TZNAME:CEST
DTSTART:20140330T010000
END:DAYLIGHT
BEGIN:STANDARD
TZOFFSETFROM:+0200
TZOFFSETTO:+0100
TZNAME:CET
DTSTART:20141026T010000
END:STANDARD
BEGIN:DAYLIGHT
TZOFFSETFROM:+0100
TZOFFSETTO:+0200
TZNAME:CEST
DTSTART:20150329T010000
END:DAYLIGHT
BEGIN:STANDARD
TZOFFSETFROM:+0200
TZOFFSETTO:+0100
TZNAME:CET
DTSTART:20151025T010000
END:STANDARD
BEGIN:DAYLIGHT
TZOFFSETFROM:+0100
TZOFFSETTO:+0200
TZNAME:CEST
DTSTART:20160327T010000
END:DAYLIGHT
BEGIN:STANDARD
TZOFFSETFROM:+0200
TZOFFSETTO:+0100
TZNAME:CET
DTSTART:20161030T010000
END:STANDARD
END:VTIMEZONE
BEGIN:VEVENT
DTSTART;TZID=Europe/Stockholm:20150322T183000
DTEND;TZID=Europe/Stockholm:20150322T200000
DTSTAMP:20260422T080130
CREATED:20150112T195518Z
LAST-MODIFIED:20150112T195518Z
UID:3050-1427049000-1427054400@finspang.vansterpartiet.se
SUMMARY:Medlemsmöte
DESCRIPTION:
URL:https://finspang.vansterpartiet.se/event/medlemsmote-6/
END:VEVENT
BEGIN:VEVENT
DTSTART;TZID=Europe/Stockholm:20150322T170000
DTEND;TZID=Europe/Stockholm:20150322T183000
DTSTAMP:20260422T080130
CREATED:20150112T195401Z
LAST-MODIFIED:20150112T195401Z
UID:3049-1427043600-1427049000@finspang.vansterpartiet.se
SUMMARY:Styrelsemöte
DESCRIPTION:
URL:https://finspang.vansterpartiet.se/event/styrelsemote-6/
END:VEVENT
BEGIN:VEVENT
DTSTART;TZID=Europe/Stockholm:20150321T093000
DTEND;TZID=Europe/Stockholm:20150321T160000
DTSTAMP:20260422T080130
CREATED:20150112T195222Z
LAST-MODIFIED:20150320T121730Z
UID:3048-1426930200-1426953600@finspang.vansterpartiet.se
SUMMARY:Distriktsårskonferens i Mjölby
DESCRIPTION:Finspång skickar tre ombud till distriktsårskonferensen.\nLilibet Gustafsson\, Leif Sundström och Per-Åke Andersson representerar.
URL:https://finspang.vansterpartiet.se/event/distriktsarskonferens-i-boxholm/
END:VEVENT
BEGIN:VEVENT
DTSTART;TZID=Europe/Stockholm:20150315T180000
DTEND;TZID=Europe/Stockholm:20150315T200000
DTSTAMP:20260422T080130
CREATED:20150112T194924Z
LAST-MODIFIED:20150112T194924Z
UID:3047-1426442400-1426449600@finspang.vansterpartiet.se
SUMMARY:Feministisk studiecirkel 2
DESCRIPTION:
URL:https://finspang.vansterpartiet.se/event/feministisk-studiecirkel-2/
END:VEVENT
BEGIN:VEVENT
DTSTART;TZID=Europe/Stockholm:20150315T160000
DTEND;TZID=Europe/Stockholm:20150315T180000
DTSTAMP:20260422T080130
CREATED:20150111T235619Z
LAST-MODIFIED:20150112T194648Z
UID:3046-1426435200-1426442400@finspang.vansterpartiet.se
SUMMARY:Årsmöte
DESCRIPTION:
URL:https://finspang.vansterpartiet.se/event/arsmote-prel/
LOCATION:Partilokalen
END:VEVENT
BEGIN:VEVENT
DTSTART;TZID=Europe/Stockholm:20150225T160000
DTEND;TZID=Europe/Stockholm:20150225T190000
DTSTAMP:20260422T080130
CREATED:20150111T234101Z
LAST-MODIFIED:20150111T234101Z
UID:3042-1424880000-1424890800@finspang.vansterpartiet.se
SUMMARY:K-fullmäktige
DESCRIPTION:Ärendelista finns på Finspångs kommuns hemsida.
URL:https://finspang.vansterpartiet.se/event/k-fullmaktige/
LOCATION:Sessionssalen
END:VEVENT
BEGIN:VEVENT
DTSTART;TZID=Europe/Stockholm:20150222T183000
DTEND;TZID=Europe/Stockholm:20150222T200000
DTSTAMP:20260422T080130
CREATED:20150111T233913Z
LAST-MODIFIED:20150111T233913Z
UID:3041-1424629800-1424635200@finspang.vansterpartiet.se
SUMMARY:Medlemsmöte
DESCRIPTION:
URL:https://finspang.vansterpartiet.se/event/medlemsmote-5/
LOCATION:Partilokalen
END:VEVENT
BEGIN:VEVENT
DTSTART;TZID=Europe/Stockholm:20150222T173000
DTEND;TZID=Europe/Stockholm:20150222T183000
DTSTAMP:20260422T080130
CREATED:20150111T233734Z
LAST-MODIFIED:20150222T141535Z
UID:3038-1424626200-1424629800@finspang.vansterpartiet.se
SUMMARY:Styrelsen
DESCRIPTION:
URL:https://finspang.vansterpartiet.se/event/styrelsen/
LOCATION:Partilokalen
END:VEVENT
BEGIN:VEVENT
DTSTART;TZID=Europe/Stockholm:20150215T000000
DTEND;TZID=Europe/Stockholm:20150215T000000
DTSTAMP:20260422T080130
CREATED:20150111T234457Z
LAST-MODIFIED:20150111T234457Z
UID:3044-1423958400-1423958400@finspang.vansterpartiet.se
SUMMARY:Träff med Jonas Sjöstedt (prel)
DESCRIPTION:Preliminärt kommer Jonas Sjöstedt till Linköping söndag den 15 februari för att nya medlemmar i Finspång och övriga Östergötland ska få möjlighet att träffa honom och bli mer bekant med Vänsterpartiets politik nationellt. \nTid och plats meddelas senare.
URL:https://finspang.vansterpartiet.se/event/traff-med-jonas-sjostedt-prel/
END:VEVENT
BEGIN:VEVENT
DTSTART;TZID=Europe/Stockholm:20150208T180000
DTEND;TZID=Europe/Stockholm:20150208T200000
DTSTAMP:20260422T080130
CREATED:20150110T004859Z
LAST-MODIFIED:20150112T194805Z
UID:3033-1423418400-1423425600@finspang.vansterpartiet.se
SUMMARY:Feministisk studiecirkel 1
DESCRIPTION:
URL:https://finspang.vansterpartiet.se/event/feministisk-studiecirkel/
LOCATION:Partilokalen
END:VEVENT
BEGIN:VEVENT
DTSTART;TZID=Europe/Stockholm:20150128T160000
DTEND;TZID=Europe/Stockholm:20150128T190000
DTSTAMP:20260422T080130
CREATED:20150110T005807Z
LAST-MODIFIED:20150110T010701Z
UID:3036-1422460800-1422471600@finspang.vansterpartiet.se
SUMMARY:K-fullmäktige
DESCRIPTION:Se kommunens hemsida för ärendelista.
URL:https://finspang.vansterpartiet.se/event/k-fullm/
END:VEVENT
BEGIN:VEVENT
DTSTART;TZID=Europe/Stockholm:20150125T183000
DTEND;TZID=Europe/Stockholm:20150125T200000
DTSTAMP:20260422T080130
CREATED:20150110T005302Z
LAST-MODIFIED:20150110T010738Z
UID:3035-1422210600-1422216000@finspang.vansterpartiet.se
SUMMARY:Medlemsmöte
DESCRIPTION:
URL:https://finspang.vansterpartiet.se/event/styrelsemote-5/
LOCATION:Partilokalen
END:VEVENT
BEGIN:VEVENT
DTSTART;TZID=Europe/Stockholm:20150125T170000
DTEND;TZID=Europe/Stockholm:20150125T183000
DTSTAMP:20260422T080130
CREATED:20150111T234930Z
LAST-MODIFIED:20150111T234930Z
UID:3045-1422205200-1422210600@finspang.vansterpartiet.se
SUMMARY:Styrelsen
DESCRIPTION:
URL:https://finspang.vansterpartiet.se/event/styrelsen-2/
LOCATION:Partilokalen
END:VEVENT
BEGIN:VEVENT
DTSTART;TZID=Europe/Stockholm:20150123T120000
DTEND;TZID=Europe/Stockholm:20150123T170000
DTSTAMP:20260422T080130
CREATED:20150110T005149Z
LAST-MODIFIED:20150110T005149Z
UID:3034-1422014400-1422032400@finspang.vansterpartiet.se
SUMMARY:Planering Styrelse o Kf-grupp
DESCRIPTION:Hemma hos Ingrid W.
URL:https://finspang.vansterpartiet.se/event/planering-styrelse-o-kf-grupp/
END:VEVENT
BEGIN:VEVENT
DTSTART;TZID=Europe/Stockholm:20141228T150000
DTEND;TZID=Europe/Stockholm:20141228T190000
DTSTAMP:20260422T080130
CREATED:20141209T075223Z
LAST-MODIFIED:20141209T090849Z
UID:3014-1419778800-1419793200@finspang.vansterpartiet.se
SUMMARY:Midvinterknytis
DESCRIPTION:Vi träffas i partilokalen på Bergslagsvägen 40 den 28 december. Knytisen pågår mellan kl.15.00 och 19.00. Du kan komma den tid som passar dig\, och stanna en längre eller kortare stund. \nDu tar själv med dig det du vill äta och dricka. \nVarmt välkommen!
URL:https://finspang.vansterpartiet.se/event/midvinterknytis/
LOCATION:Partilokalen
END:VEVENT
BEGIN:VEVENT
DTSTART;TZID=Europe/Stockholm:20141214T183000
DTEND;TZID=Europe/Stockholm:20141214T200000
DTSTAMP:20260422T080130
CREATED:20141209T073501Z
LAST-MODIFIED:20141209T073501Z
UID:3013-1418581800-1418587200@finspang.vansterpartiet.se
SUMMARY:Medlemsmöte
DESCRIPTION:
URL:https://finspang.vansterpartiet.se/event/medlemsmote-3/
LOCATION:Partilokalen
END:VEVENT
BEGIN:VEVENT
DTSTART;TZID=Europe/Stockholm:20141123T183000
DTEND;TZID=Europe/Stockholm:20141123T183000
DTSTAMP:20260422T080130
CREATED:20141018T223727Z
LAST-MODIFIED:20141018T225109Z
UID:2993-1416767400-1416767400@finspang.vansterpartiet.se
SUMMARY:Medlemsmöte
DESCRIPTION:
URL:https://finspang.vansterpartiet.se/event/medlemsmote-2/
LOCATION:Partilokalen\, Bergslagsvägen 40
END:VEVENT
BEGIN:VEVENT
DTSTART;TZID=Europe/Stockholm:20141123T180000
DTEND;TZID=Europe/Stockholm:20141123T180000
DTSTAMP:20260422T080130
CREATED:20140922T154736Z
LAST-MODIFIED:20141018T223351Z
UID:2981-1416765600-1416765600@finspang.vansterpartiet.se
SUMMARY:Kf-grupp
DESCRIPTION:  \n 
URL:https://finspang.vansterpartiet.se/event/gruppmote/
LOCATION:Partilokalen
END:VEVENT
BEGIN:VEVENT
DTSTART;TZID=Europe/Stockholm:20141123T170000
DTEND;TZID=Europe/Stockholm:20141123T170000
DTSTAMP:20260422T080130
CREATED:20141018T225354Z
LAST-MODIFIED:20141018T225354Z
UID:2996-1416762000-1416762000@finspang.vansterpartiet.se
SUMMARY:Styrelsemöte
DESCRIPTION:
URL:https://finspang.vansterpartiet.se/event/styrelsemote-4/
END:VEVENT
BEGIN:VEVENT
DTSTART;TZID=Europe/Stockholm:20141105T160000
DTEND;TZID=Europe/Stockholm:20141105T190000
DTSTAMP:20260422T080130
CREATED:20140922T154507Z
LAST-MODIFIED:20140922T154507Z
UID:2980-1415203200-1415214000@finspang.vansterpartiet.se
SUMMARY:Kf
DESCRIPTION:
URL:https://finspang.vansterpartiet.se/event/kf/
END:VEVENT
BEGIN:VEVENT
DTSTART;TZID=Europe/Stockholm:20141102T183000
DTEND;TZID=Europe/Stockholm:20141102T183000
DTSTAMP:20260422T080130
CREATED:20141018T222502Z
LAST-MODIFIED:20141018T224851Z
UID:2991-1414953000-1414953000@finspang.vansterpartiet.se
SUMMARY:Medlemsmöte
DESCRIPTION:Förhandlingar pågår under oktober månad mellan Vänsterpartiet\, Socialdemokraterna och Miljöpartiet om att bilda en majoritet.\nFörhandlingarna leds av Stefan Carlsson och Ingrid Westlund från vårt parti. \nVid medlemsmötet förväntas de kunna lägga fram förslag till samarbetsavtal och en gemensam politisk plattform för mandatperioden 2015-2018. \nFörslag till fördelning av uppdrag kommer då också att presenteras.\nMedlemsmötet har att ta ställning till de förslag som läggs fram.
URL:https://finspang.vansterpartiet.se/event/medlemsmote/
LOCATION:Partilokalen\, Bergslagsvägen 40
END:VEVENT
BEGIN:VEVENT
DTSTART;TZID=Europe/Stockholm:20141102T180000
DTEND;TZID=Europe/Stockholm:20141102T180000
DTSTAMP:20260422T080130
CREATED:20141018T222124Z
LAST-MODIFIED:20141018T225458Z
UID:2990-1414951200-1414951200@finspang.vansterpartiet.se
SUMMARY:Kf-grupp
DESCRIPTION:
URL:https://finspang.vansterpartiet.se/event/kf-gruppen/
LOCATION:Partilokalen
END:VEVENT
BEGIN:VEVENT
DTSTART;TZID=Europe/Stockholm:20141102T170000
DTEND;TZID=Europe/Stockholm:20141102T170000
DTSTAMP:20260422T080130
CREATED:20141018T222032Z
LAST-MODIFIED:20141018T223110Z
UID:2989-1414947600-1414947600@finspang.vansterpartiet.se
SUMMARY:Styrelsemöte
DESCRIPTION:
URL:https://finspang.vansterpartiet.se/event/styrelsemote-2/
LOCATION:Partilokalen
END:VEVENT
BEGIN:VEVENT
DTSTART;TZID=Europe/Stockholm:20141015T160000
DTEND;TZID=Europe/Stockholm:20141015T180000
DTSTAMP:20260422T080130
CREATED:20140922T154250Z
LAST-MODIFIED:20140922T154250Z
UID:2979-1413388800-1413396000@finspang.vansterpartiet.se
SUMMARY:Kf - konstituerande
DESCRIPTION:
URL:https://finspang.vansterpartiet.se/event/kf-konstituerande/
END:VEVENT
BEGIN:VEVENT
DTSTART;TZID=Europe/Stockholm:20141012T183000
DTEND;TZID=Europe/Stockholm:20141012T193000
DTSTAMP:20260422T080130
CREATED:20140922T191144Z
LAST-MODIFIED:20140922T191144Z
UID:2984-1413138600-1413142200@finspang.vansterpartiet.se
SUMMARY:Grupp o medlemsmöte
DESCRIPTION:
URL:https://finspang.vansterpartiet.se/event/grupp-o-medlemsmote/
END:VEVENT
BEGIN:VEVENT
DTSTART;TZID=Europe/Stockholm:20141012T173000
DTEND;TZID=Europe/Stockholm:20141012T183000
DTSTAMP:20260422T080130
CREATED:20140922T191016Z
LAST-MODIFIED:20140922T191016Z
UID:2983-1413135000-1413138600@finspang.vansterpartiet.se
SUMMARY:Styrelsemöte
DESCRIPTION:
URL:https://finspang.vansterpartiet.se/event/styrelsemote/
END:VEVENT
BEGIN:VEVENT
DTSTART;TZID=Europe/Stockholm:20141001T170000
DTEND;TZID=Europe/Stockholm:20141018T170000
DTSTAMP:20260422T080130
CREATED:20141018T223615Z
LAST-MODIFIED:20141018T223615Z
UID:2992-1412182800-1413651600@finspang.vansterpartiet.se
SUMMARY:Styrelsemöte
DESCRIPTION:
URL:https://finspang.vansterpartiet.se/event/styrelsemote-3/
LOCATION:Partilokalen
END:VEVENT
BEGIN:VEVENT
DTSTART;TZID=Europe/Stockholm:20140914T200000
DTEND;TZID=Europe/Stockholm:20140914T200000
DTSTAMP:20260422T080130
CREATED:20140821T084130Z
LAST-MODIFIED:20140821T085355Z
UID:2687-1410724800-1410724800@finspang.vansterpartiet.se
SUMMARY:Valvaka Partilokalen
DESCRIPTION:Vi har lokal valvaka i Partilokalen\, Bergslagsvägen 40\, från kl 20.00.
URL:https://finspang.vansterpartiet.se/event/valvaka/
LOCATION:Partilokalen
END:VEVENT
BEGIN:VEVENT
DTSTART;TZID=Europe/Stockholm:20140902T170000
DTEND;TZID=Europe/Stockholm:20140902T173000
DTSTAMP:20260422T080130
CREATED:20140815T143753Z
LAST-MODIFIED:20140815T143959Z
UID:2550-1409677200-1409679000@finspang.vansterpartiet.se
SUMMARY:Radiodebatt P4 (V) vs (Kd)
DESCRIPTION:Politisk debatt mellan (V) och (Kd) i Finspång i radions P4.
URL:https://finspang.vansterpartiet.se/event/radiodebatt-v-vs-kd/
END:VEVENT
BEGIN:VEVENT
DTSTART;TZID=Europe/Stockholm:20140830T100000
DTEND;TZID=Europe/Stockholm:20140830T140000
DTSTAMP:20260422T080130
CREATED:20140810T184112Z
LAST-MODIFIED:20140810T213720Z
UID:2535-1409392800-1409407200@finspang.vansterpartiet.se
SUMMARY:Flygbladsutdelning Hårstorp
DESCRIPTION:
URL:https://finspang.vansterpartiet.se/event/flygbladsutdelning-harstorp-2/
END:VEVENT
END:VCALENDAR