BEGIN:VCALENDAR
VERSION:2.0
PRODID:-//Vänsterpartiet Finspång - ECPv6.15.17.1//NONSGML v1.0//EN
CALSCALE:GREGORIAN
METHOD:PUBLISH
X-ORIGINAL-URL:https://finspang.vansterpartiet.se
X-WR-CALDESC:Händelser för Vänsterpartiet Finspång
REFRESH-INTERVAL;VALUE=DURATION:PT1H
X-Robots-Tag:noindex
X-PUBLISHED-TTL:PT1H
BEGIN:VTIMEZONE
TZID:Europe/Stockholm
BEGIN:DAYLIGHT
TZOFFSETFROM:+0100
TZOFFSETTO:+0200
TZNAME:CEST
DTSTART:20130331T010000
END:DAYLIGHT
BEGIN:STANDARD
TZOFFSETFROM:+0200
TZOFFSETTO:+0100
TZNAME:CET
DTSTART:20131027T010000
END:STANDARD
BEGIN:DAYLIGHT
TZOFFSETFROM:+0100
TZOFFSETTO:+0200
TZNAME:CEST
DTSTART:20140330T010000
END:DAYLIGHT
BEGIN:STANDARD
TZOFFSETFROM:+0200
TZOFFSETTO:+0100
TZNAME:CET
DTSTART:20141026T010000
END:STANDARD
BEGIN:DAYLIGHT
TZOFFSETFROM:+0100
TZOFFSETTO:+0200
TZNAME:CEST
DTSTART:20150329T010000
END:DAYLIGHT
BEGIN:STANDARD
TZOFFSETFROM:+0200
TZOFFSETTO:+0100
TZNAME:CET
DTSTART:20151025T010000
END:STANDARD
END:VTIMEZONE
BEGIN:VEVENT
DTSTART;TZID=Europe/Stockholm:20140828T190000
DTEND;TZID=Europe/Stockholm:20140828T203000
DTSTAMP:20260422T130232
CREATED:20140810T184249Z
LAST-MODIFIED:20140810T184249Z
UID:2536-1409252400-1409257800@finspang.vansterpartiet.se
SUMMARY:"Godheten" - film
DESCRIPTION:Visning av Stefan Jarls mycket uppmärksammade film ”Godheten”.
URL:https://finspang.vansterpartiet.se/event/godheten-film/
LOCATION:Kulturhuset
END:VEVENT
BEGIN:VEVENT
DTSTART;TZID=Europe/Stockholm:20140824T183000
DTEND;TZID=Europe/Stockholm:20140824T200000
DTSTAMP:20260422T130232
CREATED:20140810T183032Z
LAST-MODIFIED:20140810T183032Z
UID:2527-1408905000-1408910400@finspang.vansterpartiet.se
SUMMARY:Medlemsmöte o Gruppmöte
DESCRIPTION:Gruppmöte inför kommunfullmäktige 27 aug
URL:https://finspang.vansterpartiet.se/event/medlemsmote-o-gruppmote/
LOCATION:Partilokalen
END:VEVENT
BEGIN:VEVENT
DTSTART;TZID=Europe/Stockholm:20140824T170000
DTEND;TZID=Europe/Stockholm:20140824T183000
DTSTAMP:20260422T130232
CREATED:20140810T182717Z
LAST-MODIFIED:20140810T182830Z
UID:2525-1408899600-1408905000@finspang.vansterpartiet.se
SUMMARY:Styrelsemöte
DESCRIPTION:
URL:https://finspang.vansterpartiet.se/event/styreslemote/
LOCATION:Partilokalen
END:VEVENT
BEGIN:VEVENT
DTSTART;TZID=Europe/Stockholm:20140824T000000
DTEND;TZID=Europe/Stockholm:20140824T000000
DTSTAMP:20260422T130232
CREATED:20140810T183815Z
LAST-MODIFIED:20140810T183815Z
UID:2534-1408838400-1408838400@finspang.vansterpartiet.se
SUMMARY:Flygbladsutdelning Hårstorp
DESCRIPTION:
URL:https://finspang.vansterpartiet.se/event/flygbladsutdelning-harstorp/
END:VEVENT
BEGIN:VEVENT
DTSTART;TZID=Europe/Stockholm:20140823T100000
DTEND;TZID=Europe/Stockholm:20140823T140000
DTSTAMP:20260422T130232
CREATED:20140810T183718Z
LAST-MODIFIED:20140810T213629Z
UID:2533-1408788000-1408802400@finspang.vansterpartiet.se
SUMMARY:Flygbladsutdelning Dunderbacken
DESCRIPTION:
URL:https://finspang.vansterpartiet.se/event/flygbladsutdelning-dunderbacken/
END:VEVENT
BEGIN:VEVENT
DTSTART;TZID=Europe/Stockholm:20140817T000000
DTEND;TZID=Europe/Stockholm:20140817T000000
DTSTAMP:20260422T130232
CREATED:20140810T183259Z
LAST-MODIFIED:20140810T183434Z
UID:2529-1408233600-1408233600@finspang.vansterpartiet.se
SUMMARY:Flygbladsutdelning Dunderbacken
DESCRIPTION:
URL:https://finspang.vansterpartiet.se/event/flygbladsutdelning-nyhem/
END:VEVENT
BEGIN:VEVENT
DTSTART;TZID=Europe/Stockholm:20140816T000000
DTEND;TZID=Europe/Stockholm:20140816T000000
DTSTAMP:20260422T130232
CREATED:20140810T183605Z
LAST-MODIFIED:20140810T183605Z
UID:2532-1408147200-1408147200@finspang.vansterpartiet.se
SUMMARY:Flygbladsutdelning Nyhem
DESCRIPTION:
URL:https://finspang.vansterpartiet.se/event/flygbladsutdelning-nyhem-2/
END:VEVENT
BEGIN:VEVENT
DTSTART;TZID=Europe/Stockholm:20140815T170000
DTEND;TZID=Europe/Stockholm:20140815T200000
DTSTAMP:20260422T130232
CREATED:20140810T150908Z
LAST-MODIFIED:20140815T135912Z
UID:2508-1408122000-1408132800@finspang.vansterpartiet.se
SUMMARY:Höstupptakt hos Conny o Anna
DESCRIPTION:Höstupptakt. Medlemmar och sympatisörer välkomna. Medtag vad du vill äta. \nÄNDRING! Vid regn samlas vi INTE hemma hos Stefan Carlsson\, Laduvägen 6 utan hos Anna och Conny på Vallonvägen 33A.\n(Ändrat kl 16.00)
URL:https://finspang.vansterpartiet.se/event/hostupptakt-2/
END:VEVENT
BEGIN:VEVENT
DTSTART;TZID=Europe/Stockholm:20140722T080000
DTEND;TZID=Europe/Stockholm:20140722T170000
DTSTAMP:20260422T130232
CREATED:20140722T155059Z
LAST-MODIFIED:20140722T155059Z
UID:2302-1406016000-1406048400@finspang.vansterpartiet.se
SUMMARY:Höstupptakt
DESCRIPTION:Fredag 15 augusti är alla medlemmar och sympatisörer inbjudna till höstupptakt i Bruksparken.\nVi ses kl 17.00-20.00 och vid dåligt väder i partilokalen.
URL:https://finspang.vansterpartiet.se/event/hostupptakt/
END:VEVENT
END:VCALENDAR