BEGIN:VCALENDAR
VERSION:2.0
PRODID:-//Vänsterpartiet Finspång - ECPv6.15.17.1//NONSGML v1.0//EN
CALSCALE:GREGORIAN
METHOD:PUBLISH
X-WR-CALNAME:Vänsterpartiet Finspång
X-ORIGINAL-URL:https://finspang.vansterpartiet.se
X-WR-CALDESC:Händelser för Vänsterpartiet Finspång
REFRESH-INTERVAL;VALUE=DURATION:PT1H
X-Robots-Tag:noindex
X-PUBLISHED-TTL:PT1H
BEGIN:VTIMEZONE
TZID:Europe/Stockholm
BEGIN:DAYLIGHT
TZOFFSETFROM:+0100
TZOFFSETTO:+0200
TZNAME:CEST
DTSTART:20150329T010000
END:DAYLIGHT
BEGIN:STANDARD
TZOFFSETFROM:+0200
TZOFFSETTO:+0100
TZNAME:CET
DTSTART:20151025T010000
END:STANDARD
BEGIN:DAYLIGHT
TZOFFSETFROM:+0100
TZOFFSETTO:+0200
TZNAME:CEST
DTSTART:20160327T010000
END:DAYLIGHT
BEGIN:STANDARD
TZOFFSETFROM:+0200
TZOFFSETTO:+0100
TZNAME:CET
DTSTART:20161030T010000
END:STANDARD
BEGIN:DAYLIGHT
TZOFFSETFROM:+0100
TZOFFSETTO:+0200
TZNAME:CEST
DTSTART:20170326T010000
END:DAYLIGHT
BEGIN:STANDARD
TZOFFSETFROM:+0200
TZOFFSETTO:+0100
TZNAME:CET
DTSTART:20171029T010000
END:STANDARD
END:VTIMEZONE
BEGIN:VEVENT
DTSTART;TZID=Europe/Stockholm:20161211T173000
DTEND;TZID=Europe/Stockholm:20161211T183000
DTSTAMP:20260422T010017
CREATED:20161209T233249Z
LAST-MODIFIED:20161209T233249Z
UID:3354-1481477400-1481481000@finspang.vansterpartiet.se
SUMMARY:Styrelsemöte
DESCRIPTION:
URL:https://finspang.vansterpartiet.se/event/styrelsemote-18/
END:VEVENT
BEGIN:VEVENT
DTSTART;TZID=Europe/Stockholm:20161130T160000
DTEND;TZID=Europe/Stockholm:20161130T200000
DTSTAMP:20260422T010017
CREATED:20161123T005247Z
LAST-MODIFIED:20161123T005423Z
UID:3348-1480521600-1480536000@finspang.vansterpartiet.se
SUMMARY:Kommunfullmäktige
DESCRIPTION:Se kommunens hemsida för ärendelista m m.  www.finspang.se \n  \n 
URL:https://finspang.vansterpartiet.se/event/kommunfullmaktige/
LOCATION:Sessionssalen
END:VEVENT
BEGIN:VEVENT
DTSTART;TZID=Europe/Stockholm:20161127T183000
DTEND;TZID=Europe/Stockholm:20161127T183000
DTSTAMP:20260422T010017
CREATED:20161123T005134Z
LAST-MODIFIED:20161123T005538Z
UID:3346-1480271400-1480271400@finspang.vansterpartiet.se
SUMMARY:Medlemsmöte
DESCRIPTION:Strategisk plan och budget för 2017.\nKanske årets viktigaste möte inför beslut i fullmäktige 30 november.\nFinns möjligheter även vid fullmäktigemötet för allmänheten att ställa frågor till politikerna om planen och budgeten. \nVi nyttjar våra nya möjligheter att visa strategiska planen för alla som deltar vid medlemsmötet.
URL:https://finspang.vansterpartiet.se/event/medlemsmote-19/
LOCATION:Partilokalen
END:VEVENT
BEGIN:VEVENT
DTSTART;TZID=Europe/Stockholm:20161127T173000
DTEND;TZID=Europe/Stockholm:20161127T181500
DTSTAMP:20260422T010017
CREATED:20161123T004731Z
LAST-MODIFIED:20161123T005616Z
UID:3344-1480267800-1480270500@finspang.vansterpartiet.se
SUMMARY:Styrelsemöte
DESCRIPTION:Kallelse har gått ut via mail.
URL:https://finspang.vansterpartiet.se/event/styrelsemote-17/
LOCATION:Partilokalen
END:VEVENT
BEGIN:VEVENT
DTSTART;TZID=Europe/Stockholm:20161023T160000
DTEND;TZID=Europe/Stockholm:20161023T180000
DTSTAMP:20260422T010017
CREATED:20161021T221218Z
LAST-MODIFIED:20161021T221218Z
UID:3331-1477238400-1477245600@finspang.vansterpartiet.se
SUMMARY:Women's Boat to Gaza
DESCRIPTION:Hos Vänsterpartiet på Bergslagsvägen 40 i Finspång\,
URL:https://finspang.vansterpartiet.se/event/womens-boat-to-gaza/
END:VEVENT
BEGIN:VEVENT
DTSTART;TZID=Europe/Stockholm:20160925T183000
DTEND;TZID=Europe/Stockholm:20160925T193000
DTSTAMP:20260422T010017
CREATED:20160913T100818Z
LAST-MODIFIED:20160913T100857Z
UID:3308-1474828200-1474831800@finspang.vansterpartiet.se
SUMMARY:Medlemsmöte
DESCRIPTION:
URL:https://finspang.vansterpartiet.se/event/styrelsen-6/
LOCATION:Partilokalen
END:VEVENT
BEGIN:VEVENT
DTSTART;TZID=Europe/Stockholm:20160925T170000
DTEND;TZID=Europe/Stockholm:20160925T181500
DTSTAMP:20260422T010017
CREATED:20160913T101030Z
LAST-MODIFIED:20160913T101030Z
UID:3311-1474822800-1474827300@finspang.vansterpartiet.se
SUMMARY:Styrelsen
DESCRIPTION:
URL:https://finspang.vansterpartiet.se/event/styrelsen-7/
END:VEVENT
BEGIN:VEVENT
DTSTART;TZID=Europe/Stockholm:20160918T170000
DTEND;TZID=Europe/Stockholm:20160918T190000
DTSTAMP:20260422T010017
CREATED:20160913T100642Z
LAST-MODIFIED:20160913T100642Z
UID:3306-1474218000-1474225200@finspang.vansterpartiet.se
SUMMARY:Möte om budgeten 2017
DESCRIPTION:Ekonomiberedningen och kommunens tjänstemän jobbar med att ta fram ett förslag till budget för kommunen 2017.\nVilka prioriteringar ska göras? Hur ska det synas att Vänsterpartiet är en del av majoriteten?
URL:https://finspang.vansterpartiet.se/event/mote-om-budgeten-2017/
LOCATION:Partilokalen\, Bergslagsvägen 40
END:VEVENT
BEGIN:VEVENT
DTSTART;TZID=Europe/Stockholm:20160527T090000
DTEND;TZID=Europe/Stockholm:20160527T180000
DTSTAMP:20260422T010017
CREATED:20160229T140812Z
LAST-MODIFIED:20160229T140812Z
UID:3251-1464339600-1464372000@finspang.vansterpartiet.se
SUMMARY:Finspångs marknad
DESCRIPTION:Kom och besök oss på marknaden. Vi brukar stå vid Blomsteraffären/Lidlparkeringen.
URL:https://finspang.vansterpartiet.se/event/finspangs-marknad/
END:VEVENT
BEGIN:VEVENT
DTSTART;TZID=Europe/Stockholm:20160525T160000
DTEND;TZID=Europe/Stockholm:20160819T190000
DTSTAMP:20260422T010017
CREATED:20160229T140923Z
LAST-MODIFIED:20160229T140923Z
UID:3252-1464192000-1471633200@finspang.vansterpartiet.se
SUMMARY:K-fullm
DESCRIPTION:
URL:https://finspang.vansterpartiet.se/event/k-fullm-6/
LOCATION:Sessionssalen
END:VEVENT
BEGIN:VEVENT
DTSTART;TZID=Europe/Stockholm:20160522T183000
DTEND;TZID=Europe/Stockholm:20160522T193000
DTSTAMP:20260422T010017
CREATED:20160229T135214Z
LAST-MODIFIED:20160229T135214Z
UID:3249-1463941800-1463945400@finspang.vansterpartiet.se
SUMMARY:Medlemsmöte
DESCRIPTION:
URL:https://finspang.vansterpartiet.se/event/medlemsmote-17/
LOCATION:Partilokalen
END:VEVENT
BEGIN:VEVENT
DTSTART;TZID=Europe/Stockholm:20160522T170000
DTEND;TZID=Europe/Stockholm:20160522T181500
DTSTAMP:20260422T010017
CREATED:20160229T135104Z
LAST-MODIFIED:20160229T135713Z
UID:3248-1463936400-1463940900@finspang.vansterpartiet.se
SUMMARY:Styrelsemöte
DESCRIPTION:
URL:https://finspang.vansterpartiet.se/event/styrelsemote-14/
LOCATION:Partilokalen
END:VEVENT
BEGIN:VEVENT
DTSTART;TZID=Europe/Stockholm:20160501T113000
DTEND;TZID=Europe/Stockholm:20160501T130000
DTSTAMP:20260422T010017
CREATED:20160229T134936Z
LAST-MODIFIED:20160229T140453Z
UID:3247-1462102200-1462107600@finspang.vansterpartiet.se
SUMMARY:1 majfirande i Norrköping
DESCRIPTION:Finspångsvänstern tågar under egen paroll under festliga former. Avslutning med tal och underhållning i Vasaparken.\nSamåkning från partilokalen. Avresetid\, se information senare.
URL:https://finspang.vansterpartiet.se/event/1-majfirande-i-norrkoping/
END:VEVENT
BEGIN:VEVENT
DTSTART;TZID=Europe/Stockholm:20160427T160000
DTEND;TZID=Europe/Stockholm:20160427T190000
DTSTAMP:20260422T010017
CREATED:20160229T134456Z
LAST-MODIFIED:20160229T135805Z
UID:3246-1461772800-1461783600@finspang.vansterpartiet.se
SUMMARY:K-fullm
DESCRIPTION:
URL:https://finspang.vansterpartiet.se/event/k-fullm-4/
LOCATION:Sessionssalen
END:VEVENT
BEGIN:VEVENT
DTSTART;TZID=Europe/Stockholm:20160424T183000
DTEND;TZID=Europe/Stockholm:20160424T193000
DTSTAMP:20260422T010017
CREATED:20160229T134352Z
LAST-MODIFIED:20160418T205703Z
UID:3245-1461522600-1461526200@finspang.vansterpartiet.se
SUMMARY:Medlemsmöte
DESCRIPTION:Möte med bl a genomgång av vissa ärenden för fullmäktige tre dagar senare.\nDessutom kommer prioriteringar för 2017 års budgetarbete upp.\nFörsta Maj är nära och blir också en fråga för medlemsmötet. \nVälkommen!
URL:https://finspang.vansterpartiet.se/event/medlemsmote-16/
LOCATION:Partilokalen
END:VEVENT
BEGIN:VEVENT
DTSTART;TZID=Europe/Stockholm:20160419T190000
DTEND;TZID=Europe/Stockholm:20160419T203000
DTSTAMP:20260422T010017
CREATED:20160229T134136Z
LAST-MODIFIED:20160320T180714Z
UID:3244-1461092400-1461097800@finspang.vansterpartiet.se
SUMMARY:Styrelsemöte
DESCRIPTION:
URL:https://finspang.vansterpartiet.se/event/styrelsemote-13/
LOCATION:Partilokalen\, Bergslagsvägen 40
END:VEVENT
BEGIN:VEVENT
DTSTART;TZID=Europe/Stockholm:20160412T180000
DTEND;TZID=Europe/Stockholm:20160412T190000
DTSTAMP:20260422T010017
CREATED:20160302T205312Z
LAST-MODIFIED:20160302T205419Z
UID:3255-1460484000-1460487600@finspang.vansterpartiet.se
SUMMARY:Styrelsemöte
DESCRIPTION:Rangordning av politikområden inför förhandlingar med S och Mp.
URL:https://finspang.vansterpartiet.se/event/styrelsemote-16/
LOCATION:Partilokalen
END:VEVENT
BEGIN:VEVENT
DTSTART;TZID=Europe/Stockholm:20160406T180000
DTEND;TZID=Europe/Stockholm:20160406T190000
DTSTAMP:20260422T010017
CREATED:20160302T205059Z
LAST-MODIFIED:20160302T205455Z
UID:3254-1459965600-1459969200@finspang.vansterpartiet.se
SUMMARY:Medlemsmöte
DESCRIPTION:Fullmäktigegruppen leder en diskussion om att ta fram prioriterade uppdrag.
URL:https://finspang.vansterpartiet.se/event/medlemsmote-18/
LOCATION:Partilokalen\, Bergslagsvägen 40
END:VEVENT
BEGIN:VEVENT
DTSTART;TZID=Europe/Stockholm:20160403T140000
DTEND;TZID=Europe/Stockholm:20160403T153000
DTSTAMP:20260422T010017
CREATED:20160229T122019Z
LAST-MODIFIED:20160229T140047Z
UID:3232-1459692000-1459697400@finspang.vansterpartiet.se
SUMMARY:Vänsterfika m Ingrid och Lilibet
DESCRIPTION:Vi inleder Vänsterfika den 3 april.\nVärdar första fikat är Ingrid Westlund och Lilibet Gustafsson.\nHär ges tillfälle att prata om allt möjligt du tycker är viktigt över en kopp kaffe.
URL:https://finspang.vansterpartiet.se/event/vansterfika-m-ingrid-och-lilibet/
LOCATION:Partilokalen\, Bergslagsvägen 40
END:VEVENT
BEGIN:VEVENT
DTSTART;TZID=Europe/Stockholm:20160323T160000
DTEND;TZID=Europe/Stockholm:20160323T190000
DTSTAMP:20260422T010017
CREATED:20160229T135433Z
LAST-MODIFIED:20160229T135455Z
UID:3250-1458748800-1458759600@finspang.vansterpartiet.se
SUMMARY:K-fullm
DESCRIPTION:Ärendelista se kommunens hemsida\, www.finspang.se.
URL:https://finspang.vansterpartiet.se/event/k-fullm-5/
LOCATION:Sessionssalen
END:VEVENT
BEGIN:VEVENT
DTSTART;TZID=Europe/Stockholm:20160320T180000
DTEND;TZID=Europe/Stockholm:20160320T190000
DTSTAMP:20260422T010017
CREATED:20160302T204755Z
LAST-MODIFIED:20160302T204821Z
UID:3253-1458496800-1458500400@finspang.vansterpartiet.se
SUMMARY:Styrelsemöte
DESCRIPTION:
URL:https://finspang.vansterpartiet.se/event/styrelsemote-15/
END:VEVENT
BEGIN:VEVENT
DTSTART;TZID=Europe/Stockholm:20160320T160000
DTEND;TZID=Europe/Stockholm:20160320T180000
DTSTAMP:20260422T010017
CREATED:20160229T121650Z
LAST-MODIFIED:20160229T140137Z
UID:3231-1458489600-1458496800@finspang.vansterpartiet.se
SUMMARY:Årsmöte
DESCRIPTION:Alla medlemmar hälsas välkomna till avdelningens årsmöte.\nFörutom årsmötesförhandlingar kommer Malin Östh\, ledamot i regionfullmäktige\, och berättar kort om regionpolitik i Östergötland samt om planerna för Finspångs nya vårdcentral.\nVi bjuder på fika med semla. Boklotteri. \nEfter årsmötet är det genomgång av vissa ärenden till fullmäktige tre dagar senare\, 23 mars.
URL:https://finspang.vansterpartiet.se/event/arsmote/
LOCATION:Partilokalen\, Bergslagsvägen 40
END:VEVENT
BEGIN:VEVENT
DTSTART;TZID=Europe/Stockholm:20160224T160000
DTEND;TZID=Europe/Stockholm:20160224T190000
DTSTAMP:20260422T010017
CREATED:20160215T145813Z
LAST-MODIFIED:20160215T145813Z
UID:3224-1456329600-1456340400@finspang.vansterpartiet.se
SUMMARY:K-fullm
DESCRIPTION:Ärendelista\, se kommunens hemsida www.finspang.se \n 
URL:https://finspang.vansterpartiet.se/event/k-fullm-3/
LOCATION:Sessionssalen
END:VEVENT
BEGIN:VEVENT
DTSTART;TZID=Europe/Stockholm:20160221T183000
DTEND;TZID=Europe/Stockholm:20160221T183000
DTSTAMP:20260422T010017
CREATED:20160215T145545Z
LAST-MODIFIED:20160215T145545Z
UID:3222-1456079400-1456079400@finspang.vansterpartiet.se
SUMMARY:Medlemsmöte
DESCRIPTION:Genomgång av fullmäktigeärenden. \nDiskussion om jämlikhet\, se artikel.\nStora inkomstklyftor ger alla sämre liv (1)
URL:https://finspang.vansterpartiet.se/event/medlemsmote-15/
LOCATION:Partilokalen
END:VEVENT
BEGIN:VEVENT
DTSTART;TZID=Europe/Stockholm:20160221T170000
DTEND;TZID=Europe/Stockholm:20160221T170000
DTSTAMP:20260422T010017
CREATED:20160215T144817Z
LAST-MODIFIED:20160215T144817Z
UID:3221-1456074000-1456074000@finspang.vansterpartiet.se
SUMMARY:Styrelsemöte
DESCRIPTION:
URL:https://finspang.vansterpartiet.se/event/styrelsemote-12/
LOCATION:Partilokalen
END:VEVENT
BEGIN:VEVENT
DTSTART;TZID=Europe/Stockholm:20160127T160000
DTEND;TZID=Europe/Stockholm:20160127T190000
DTSTAMP:20260422T010017
CREATED:20151215T012039Z
LAST-MODIFIED:20151215T012256Z
UID:3214-1453910400-1453921200@finspang.vansterpartiet.se
SUMMARY:K-fullmäktige
DESCRIPTION:
URL:https://finspang.vansterpartiet.se/event/k-fullm-2/
LOCATION:Sessionssalen
END:VEVENT
BEGIN:VEVENT
DTSTART;TZID=Europe/Stockholm:20160124T183000
DTEND;TZID=Europe/Stockholm:20160124T200000
DTSTAMP:20260422T010017
CREATED:20151215T011937Z
LAST-MODIFIED:20151215T012115Z
UID:3213-1453660200-1453665600@finspang.vansterpartiet.se
SUMMARY:Medlemsmöte
DESCRIPTION:
URL:https://finspang.vansterpartiet.se/event/medlemsmote-14/
LOCATION:Partilokalen
END:VEVENT
BEGIN:VEVENT
DTSTART;TZID=Europe/Stockholm:20160124T170000
DTEND;TZID=Europe/Stockholm:20160124T181500
DTSTAMP:20260422T010017
CREATED:20151215T011839Z
LAST-MODIFIED:20151215T012141Z
UID:3212-1453654800-1453659300@finspang.vansterpartiet.se
SUMMARY:Styrelsen
DESCRIPTION:
URL:https://finspang.vansterpartiet.se/event/styrelsen-5/
LOCATION:Partilokalen
END:VEVENT
BEGIN:VEVENT
DTSTART;TZID=Europe/Stockholm:20160112T170000
DTEND;TZID=Europe/Stockholm:20160112T170000
DTSTAMP:20260422T010017
CREATED:20151116T130300Z
LAST-MODIFIED:20151116T140917Z
UID:3200-1452618000-1452618000@finspang.vansterpartiet.se
SUMMARY:Våra förtroendeuppdrag
DESCRIPTION:
URL:https://finspang.vansterpartiet.se/event/vara-fortroendeuppdrag/
LOCATION:Partilokalen
END:VEVENT
BEGIN:VEVENT
DTSTART;TZID=Europe/Stockholm:20160108T120000
DTEND;TZID=Europe/Stockholm:20160108T170000
DTSTAMP:20260422T010017
CREATED:20151116T122847Z
LAST-MODIFIED:20151116T125602Z
UID:3194-1452254400-1452272400@finspang.vansterpartiet.se
SUMMARY:Strategidag
DESCRIPTION:
URL:https://finspang.vansterpartiet.se/event/strategidag/
END:VEVENT
END:VCALENDAR